BEGIN:VCALENDAR
VERSION:2.0
PRODID:-//The Independent - ECPv6.15.20//NONSGML v1.0//EN
CALSCALE:GREGORIAN
METHOD:PUBLISH
X-ORIGINAL-URL:https://theindependent.ca
X-WR-CALDESC:Events for The Independent
REFRESH-INTERVAL;VALUE=DURATION:PT1H
X-Robots-Tag:noindex
X-PUBLISHED-TTL:PT1H
BEGIN:VTIMEZONE
TZID:America/St_Johns
BEGIN:DAYLIGHT
TZOFFSETFROM:-0330
TZOFFSETTO:-0230
TZNAME:NDT
DTSTART:20250309T053000
END:DAYLIGHT
BEGIN:STANDARD
TZOFFSETFROM:-0230
TZOFFSETTO:-0330
TZNAME:NST
DTSTART:20251102T043000
END:STANDARD
BEGIN:DAYLIGHT
TZOFFSETFROM:-0330
TZOFFSETTO:-0230
TZNAME:NDT
DTSTART:20260308T053000
END:DAYLIGHT
BEGIN:STANDARD
TZOFFSETFROM:-0230
TZOFFSETTO:-0330
TZNAME:NST
DTSTART:20261101T043000
END:STANDARD
BEGIN:DAYLIGHT
TZOFFSETFROM:-0330
TZOFFSETTO:-0230
TZNAME:NDT
DTSTART:20270314T053000
END:DAYLIGHT
BEGIN:STANDARD
TZOFFSETFROM:-0230
TZOFFSETTO:-0330
TZNAME:NST
DTSTART:20271107T043000
END:STANDARD
END:VTIMEZONE
BEGIN:VEVENT
DTSTART;TZID=America/St_Johns:20260415T180000
DTEND;TZID=America/St_Johns:20260417T163000
DTSTAMP:20260419T144327
CREATED:20260410T192211Z
LAST-MODIFIED:20260410T192211Z
UID:96581-1776276000-1776443400@theindependent.ca
SUMMARY:A. C. Hunter Library presents SKEET
DESCRIPTION:In celebration of National Canadian Film Day\, A. C. Hunter Library presents a special FREE screening of SKEET. \nApril 15\, 6:00 PM \nApril 17\, 2:30 PM \nA powerful coming-of-age story set in Newfoundland\, following a young man navigating identity\, community\, and survival. \nMore information: https://canfilmday.ca/event/a-c-hunter-library-presents-skeet/ \nA. C. Hunter Public Library\, 125 Allandale Road\, St. John’s\, NL\, A1B 3A3
URL:https://theindependent.ca/event/a-c-hunter-library-presents-skeet/
END:VEVENT
BEGIN:VEVENT
DTSTART;TZID=America/St_Johns:20260415T190000
DTEND;TZID=America/St_Johns:20260415T190000
DTSTAMP:20260419T144327
CREATED:20260410T192300Z
LAST-MODIFIED:20260410T192300Z
UID:96587-1776279600-1776279600@theindependent.ca
SUMMARY:ACFSJ presents Mon Oncle Antoine (My Uncle Antoine)
DESCRIPTION:In celebration of National Canadian Film Day\, ACFSJ presents a special FREE screening of Mon oncle Antoine (My Uncle Antoine). \nTime: 7:00 PM \nSet in rural Quebec\, this coming-of-age classic follows a young boy whose illusions about adulthood are shattered over the course of a fateful Christmas Eve. \nMore information: https://canfilmday.ca/event/acfsj-presents-mon-oncle-antoine/ \nCentre des Grands-Vents\, 65 Ridge Rd.\, St. John’s\, NL\, A1B 4P5
URL:https://theindependent.ca/event/acfsj-presents-mon-oncle-antoine-my-uncle-antoine/
END:VEVENT
BEGIN:VEVENT
DTSTART;TZID=America/St_Johns:20260415T190000
DTEND;TZID=America/St_Johns:20260415T210000
DTSTAMP:20260419T144327
CREATED:20260410T183346Z
LAST-MODIFIED:20260410T183346Z
UID:96583-1776279600-1776286800@theindependent.ca
SUMMARY:Pouch Cove Library presents SKEET
DESCRIPTION:In celebration of National Canadian Film Day\, Pouch Cove Library presents a special FREE screening of SKEET. \nTime: 7:00 PM \nA powerful coming-of-age story set in Newfoundland\, following a young man navigating identity\, community\, and survival. \nMore information: https://canfilmday.ca/event/pouch-cove-library-presents-skeet/ \nStiles Cove Chalet\, 100 Satellite Road\, Pouch Cove\, NL\, A0A 3L0
URL:https://theindependent.ca/event/pouch-cove-library-presents-skeet/
END:VEVENT
BEGIN:VEVENT
DTSTART;TZID=America/St_Johns:20260415T190000
DTEND;TZID=America/St_Johns:20260415T210000
DTSTAMP:20260419T144327
CREATED:20260410T192407Z
LAST-MODIFIED:20260410T192407Z
UID:96576-1776279600-1776286800@theindependent.ca
SUMMARY:Torbay Public Library presents SKEET
DESCRIPTION:In celebration of National Canadian Film Day\, Torbay Public Library presents a special FREE screening of SKEET. \nTime: 7:00 PM \nA powerful coming-of-age story set in Newfoundland\, following a young man navigating identity\, community\, and survival. \nMore information: https://canfilmday.ca/event/torbay-public-library-presents-skeet/ \nTorbay Public Library\, 1339C Torbay Road\, Torbay\, NL\, A1K1B2
URL:https://theindependent.ca/event/torbay-public-library-presents-skeet/
LOCATION:Torbay Public Library\, 1339C Torbay Rd\, Torbay\, A1K 1B2
ORGANIZER;CN="Reel Canada":MAILTO:simi@route504pr.com
END:VEVENT
END:VCALENDAR