BEGIN:VCALENDAR
VERSION:2.0
PRODID:-//The Independent - ECPv6.15.20//NONSGML v1.0//EN
CALSCALE:GREGORIAN
METHOD:PUBLISH
X-WR-CALNAME:The Independent
X-ORIGINAL-URL:https://theindependent.ca
X-WR-CALDESC:Events for The Independent
REFRESH-INTERVAL;VALUE=DURATION:PT1H
X-Robots-Tag:noindex
X-PUBLISHED-TTL:PT1H
BEGIN:VTIMEZONE
TZID:America/St_Johns
BEGIN:DAYLIGHT
TZOFFSETFROM:-0330
TZOFFSETTO:-0230
TZNAME:NDT
DTSTART:20250309T053000
END:DAYLIGHT
BEGIN:STANDARD
TZOFFSETFROM:-0230
TZOFFSETTO:-0330
TZNAME:NST
DTSTART:20251102T043000
END:STANDARD
BEGIN:DAYLIGHT
TZOFFSETFROM:-0330
TZOFFSETTO:-0230
TZNAME:NDT
DTSTART:20260308T053000
END:DAYLIGHT
BEGIN:STANDARD
TZOFFSETFROM:-0230
TZOFFSETTO:-0330
TZNAME:NST
DTSTART:20261101T043000
END:STANDARD
BEGIN:DAYLIGHT
TZOFFSETFROM:-0330
TZOFFSETTO:-0230
TZNAME:NDT
DTSTART:20270314T053000
END:DAYLIGHT
BEGIN:STANDARD
TZOFFSETFROM:-0230
TZOFFSETTO:-0330
TZNAME:NST
DTSTART:20271107T043000
END:STANDARD
END:VTIMEZONE
BEGIN:VEVENT
DTSTART;TZID=America/St_Johns:20260329T190000
DTEND;TZID=America/St_Johns:20260329T210000
DTSTAMP:20260419T102814
CREATED:20260319T150238Z
LAST-MODIFIED:20260319T150238Z
UID:96408-1774810800-1774818000@theindependent.ca
SUMMARY:Juno Award-winning Gospel Singer Steve Bell in Concert
DESCRIPTION:Steve Bell in Concert\nMarch 29\, 7 p.m.\nChurch of the Good Shepherd\n111 Richard Nolan Dr.\, Mount Pearl \nAdmission: $25 \nSteve Bell on YouTube: https://www.youtube.com/watch?v=Oef8KFUarY8&list=RDEMCv2EJgnCtOcJ6CupyUdTmA&start_radio=1&rv=rUJ8yF3AaXQ
URL:https://theindependent.ca/event/juno-award-winning-gospel-singer-steve-bell-in-concert/
LOCATION:Anglican Church\, 16 Church Hill\, St. John's\, A1C 3Z9
ATTACH;FMTTYPE=image/jpeg:https://d2wgbk3gn8z3pi.cloudfront.net/wp-content/uploads/2026/03/19122825/Steve-Bell-Soc-Med-4-2025.jpg
ORGANIZER;CN="parish":MAILTO:cotgs@nf.aibn.com
END:VEVENT
END:VCALENDAR